BEGIN:VCALENDAR
VERSION:2.0
PRODID:-//Greater St. Matthews Baptist Church - ECPv6.2.0.1//NONSGML v1.0//EN
CALSCALE:GREGORIAN
METHOD:PUBLISH
X-ORIGINAL-URL:https://gsmbc.org
X-WR-CALDESC:Events for Greater St. Matthews Baptist Church
REFRESH-INTERVAL;VALUE=DURATION:PT1H
X-Robots-Tag:noindex
X-PUBLISHED-TTL:PT1H
BEGIN:VTIMEZONE
TZID:America/Chicago
BEGIN:DAYLIGHT
TZOFFSETFROM:-0600
TZOFFSETTO:-0500
TZNAME:CDT
DTSTART:20260308T080000
END:DAYLIGHT
BEGIN:STANDARD
TZOFFSETFROM:-0500
TZOFFSETTO:-0600
TZNAME:CST
DTSTART:20261101T070000
END:STANDARD
END:VTIMEZONE
BEGIN:VEVENT
DTSTART;TZID=America/Chicago:20260331T190000
DTEND;TZID=America/Chicago:20260331T200000
DTSTAMP:20260425T065947
CREATED:20260320T173812Z
LAST-MODIFIED:20260320T173812Z
UID:32204-1774983600-1774987200@gsmbc.org
SUMMARY:Marriage Ministry
DESCRIPTION:
URL:https://gsmbc.org/event/marriage-ministry/
CATEGORIES:Bible Study,Family Event
END:VEVENT
BEGIN:VEVENT
DTSTART;TZID=America/Chicago:20260401T120000
DTEND;TZID=America/Chicago:20260401T130000
DTSTAMP:20260425T065947
CREATED:20260408T164113Z
LAST-MODIFIED:20260408T164113Z
UID:32226-1775044800-1775048400@gsmbc.org
SUMMARY:Noon Day Bible Study
DESCRIPTION:
URL:https://gsmbc.org/event/noon-day-bible-study-6/
CATEGORIES:Bible Study
END:VEVENT
BEGIN:VEVENT
DTSTART;VALUE=DATE:20260403
DTEND;VALUE=DATE:20260404
DTSTAMP:20260425T065947
CREATED:20260408T184846Z
LAST-MODIFIED:20260408T184846Z
UID:32238-1775174400-1775260799@gsmbc.org
SUMMARY:Good Friday
DESCRIPTION:
URL:https://gsmbc.org/event/good-friday/
CATEGORIES:Community Event
END:VEVENT
BEGIN:VEVENT
DTSTART;VALUE=DATE:20260405
DTEND;VALUE=DATE:20260406
DTSTAMP:20260425T065947
CREATED:20260408T185254Z
LAST-MODIFIED:20260408T185254Z
UID:32240-1775347200-1775433599@gsmbc.org
SUMMARY:Easter
DESCRIPTION:
URL:https://gsmbc.org/event/easter/
END:VEVENT
BEGIN:VEVENT
DTSTART;TZID=America/Chicago:20260407T190000
DTEND;TZID=America/Chicago:20260407T200000
DTSTAMP:20260425T065947
CREATED:20260408T185341Z
LAST-MODIFIED:20260408T185341Z
UID:32242-1775588400-1775592000@gsmbc.org
SUMMARY:Night Time Bible Study
DESCRIPTION:
URL:https://gsmbc.org/event/night-time-bible-study-6/
CATEGORIES:Bible Study
END:VEVENT
BEGIN:VEVENT
DTSTART;TZID=America/Chicago:20260408T120000
DTEND;TZID=America/Chicago:20260408T130000
DTSTAMP:20260425T065947
CREATED:20260408T164157Z
LAST-MODIFIED:20260408T164157Z
UID:32228-1775649600-1775653200@gsmbc.org
SUMMARY:Noon Day Bible Study
DESCRIPTION:
URL:https://gsmbc.org/event/noon-day-bible-study-7/
CATEGORIES:Bible Study
END:VEVENT
BEGIN:VEVENT
DTSTART;TZID=America/Chicago:20260411T070000
DTEND;TZID=America/Chicago:20260411T150000
DTSTAMP:20260425T065947
CREATED:20260408T180950Z
LAST-MODIFIED:20260408T180950Z
UID:32236-1775890800-1775919600@gsmbc.org
SUMMARY:SEP Golf Tournament
DESCRIPTION:
URL:https://gsmbc.org/event/sep-golf-tournament/
CATEGORIES:Community Event
END:VEVENT
BEGIN:VEVENT
DTSTART;TZID=America/Chicago:20260414T190000
DTEND;TZID=America/Chicago:20260414T200000
DTSTAMP:20260425T065947
CREATED:20260408T185421Z
LAST-MODIFIED:20260408T185421Z
UID:32244-1776193200-1776196800@gsmbc.org
SUMMARY:Night Time Bible Study
DESCRIPTION:
URL:https://gsmbc.org/event/night-time-bible-study-7/
CATEGORIES:Bible Study
END:VEVENT
BEGIN:VEVENT
DTSTART;TZID=America/Chicago:20260415T120000
DTEND;TZID=America/Chicago:20260415T130000
DTSTAMP:20260425T065947
CREATED:20260408T164225Z
LAST-MODIFIED:20260408T164225Z
UID:32230-1776254400-1776258000@gsmbc.org
SUMMARY:Noon Day Bible Study
DESCRIPTION:
URL:https://gsmbc.org/event/noon-day-bible-study-8/
CATEGORIES:Bible Study
END:VEVENT
BEGIN:VEVENT
DTSTART;TZID=America/Chicago:20260422T120000
DTEND;TZID=America/Chicago:20260422T130000
DTSTAMP:20260425T065947
CREATED:20260408T165234Z
LAST-MODIFIED:20260408T165234Z
UID:32232-1776859200-1776862800@gsmbc.org
SUMMARY:Noon Day Bible Study
DESCRIPTION:
URL:https://gsmbc.org/event/noon-day-bible-study-9/
CATEGORIES:Bible Study
END:VEVENT
BEGIN:VEVENT
DTSTART;TZID=America/Chicago:20260426T120000
DTEND;TZID=America/Chicago:20260426T130000
DTSTAMP:20260425T065947
CREATED:20260424T165700Z
LAST-MODIFIED:20260424T165700Z
UID:32265-1777204800-1777208400@gsmbc.org
SUMMARY:Willing Worker's
DESCRIPTION:
URL:https://gsmbc.org/event/willing-workers/
CATEGORIES:Church Event
END:VEVENT
BEGIN:VEVENT
DTSTART;TZID=America/Chicago:20260428T190000
DTEND;TZID=America/Chicago:20260428T203000
DTSTAMP:20260425T065947
CREATED:20260424T165124Z
LAST-MODIFIED:20260424T165124Z
UID:32259-1777402800-1777408200@gsmbc.org
SUMMARY:East Hitchcock Minister's Association City Wide Revival
DESCRIPTION:
URL:https://gsmbc.org/event/east-hitchcock-ministers-association-city-wide-revival/
CATEGORIES:Community Event
END:VEVENT
BEGIN:VEVENT
DTSTART;TZID=America/Chicago:20260429T120000
DTEND;TZID=America/Chicago:20260429T130000
DTSTAMP:20260425T065947
CREATED:20260408T165308Z
LAST-MODIFIED:20260408T165308Z
UID:32234-1777464000-1777467600@gsmbc.org
SUMMARY:Noon Day Bible Study
DESCRIPTION:
URL:https://gsmbc.org/event/noon-day-bible-study-10/
CATEGORIES:Bible Study
END:VEVENT
BEGIN:VEVENT
DTSTART;TZID=America/Chicago:20260429T190000
DTEND;TZID=America/Chicago:20260429T203000
DTSTAMP:20260425T065947
CREATED:20260424T165236Z
LAST-MODIFIED:20260424T165236Z
UID:32261-1777489200-1777494600@gsmbc.org
SUMMARY:East Hitchcock Minister's Association City Wide Revival
DESCRIPTION:
URL:https://gsmbc.org/event/east-hitchcock-ministers-association-city-wide-revival-2/
CATEGORIES:Church Event
END:VEVENT
BEGIN:VEVENT
DTSTART;TZID=America/Chicago:20260430T190000
DTEND;TZID=America/Chicago:20260430T203000
DTSTAMP:20260425T065947
CREATED:20260424T165420Z
LAST-MODIFIED:20260424T165420Z
UID:32263-1777575600-1777581000@gsmbc.org
SUMMARY:East Hitchcock Minister's Association City Wide Revival
DESCRIPTION:
URL:https://gsmbc.org/event/east-hitchcock-ministers-association-city-wide-revival-3/
CATEGORIES:Community Event
END:VEVENT
BEGIN:VEVENT
DTSTART;VALUE=DATE:20261226
DTEND;VALUE=DATE:20261227
DTSTAMP:20260425T065947
CREATED:20250605T162216Z
LAST-MODIFIED:20250605T162216Z
UID:30438-1798243200-1798329599@gsmbc.org
SUMMARY:Sabbatical Week
DESCRIPTION:
URL:https://gsmbc.org/event/sabbatical-week-15/
CATEGORIES:Church Event
END:VEVENT
END:VCALENDAR