BEGIN:VCALENDAR
VERSION:2.0
PRODID:-//Greater St. Matthews Baptist Church - ECPv6.2.0.1//NONSGML v1.0//EN
CALSCALE:GREGORIAN
METHOD:PUBLISH
X-WR-CALNAME:Greater St. Matthews Baptist Church
X-ORIGINAL-URL:https://gsmbc.org
X-WR-CALDESC:Events for Greater St. Matthews Baptist Church
REFRESH-INTERVAL;VALUE=DURATION:PT1H
X-Robots-Tag:noindex
X-PUBLISHED-TTL:PT1H
BEGIN:VTIMEZONE
TZID:America/Chicago
BEGIN:DAYLIGHT
TZOFFSETFROM:-0600
TZOFFSETTO:-0500
TZNAME:CDT
DTSTART:20250309T080000
END:DAYLIGHT
BEGIN:STANDARD
TZOFFSETFROM:-0500
TZOFFSETTO:-0600
TZNAME:CST
DTSTART:20251102T070000
END:STANDARD
END:VTIMEZONE
BEGIN:VEVENT
DTSTART;TZID=America/Chicago:20251025T160000
DTEND;TZID=America/Chicago:20251025T180000
DTSTAMP:20260420T193211
CREATED:20250604T180443Z
LAST-MODIFIED:20250604T180443Z
UID:30327-1761408000-1761415200@gsmbc.org
SUMMARY:Hallelujah Fest
DESCRIPTION:
URL:https://gsmbc.org/event/hallelujah-fest-2/
CATEGORIES:Church Event,Community Event
END:VEVENT
BEGIN:VEVENT
DTSTART;TZID=America/Chicago:20251019T120000
DTEND;TZID=America/Chicago:20251019T160000
DTSTAMP:20260420T193211
CREATED:20250604T180141Z
LAST-MODIFIED:20250604T180141Z
UID:30323-1760875200-1760889600@gsmbc.org
SUMMARY:Calendar Festival Workshop
DESCRIPTION:
URL:https://gsmbc.org/event/calendar-festival-workshop/
CATEGORIES:Church Event,Community Event
END:VEVENT
BEGIN:VEVENT
DTSTART;TZID=America/Chicago:20250928T083000
DTEND;TZID=America/Chicago:20250928T103000
DTSTAMP:20260420T193211
CREATED:20250603T153853Z
LAST-MODIFIED:20250603T153853Z
UID:30248-1759048200-1759055400@gsmbc.org
SUMMARY:Old Skool Sunday
DESCRIPTION:
URL:https://gsmbc.org/event/old-skool-sunday-2/
CATEGORIES:Church Event
END:VEVENT
BEGIN:VEVENT
DTSTART;TZID=America/Chicago:20250914T083000
DTEND;TZID=America/Chicago:20250914T103000
DTSTAMP:20260420T193211
CREATED:20250603T145733Z
LAST-MODIFIED:20250603T145733Z
UID:30238-1757838600-1757845800@gsmbc.org
SUMMARY:Jersey Sunday
DESCRIPTION:
URL:https://gsmbc.org/event/jersey-sunday/
CATEGORIES:Church Event
END:VEVENT
BEGIN:VEVENT
DTSTART;TZID=America/Chicago:20250911T190000
DTEND;TZID=America/Chicago:20250911T210000
DTSTAMP:20260420T193211
CREATED:20250604T161655Z
LAST-MODIFIED:20250604T161655Z
UID:30281-1757617200-1757624400@gsmbc.org
SUMMARY:Southwest Central District Association Fall Revival
DESCRIPTION:
URL:https://gsmbc.org/event/southwest-central-district-association-fall-revival-2/
CATEGORIES:Church Event,Community Event
END:VEVENT
BEGIN:VEVENT
DTSTART;TZID=America/Chicago:20250910T190000
DTEND;TZID=America/Chicago:20250910T210000
DTSTAMP:20260420T193211
CREATED:20250604T161623Z
LAST-MODIFIED:20250604T161623Z
UID:30279-1757530800-1757538000@gsmbc.org
SUMMARY:Southwest Central District Association Fall Revival
DESCRIPTION:
URL:https://gsmbc.org/event/southwest-central-district-association-fall-revival/
CATEGORIES:Church Event,Community Event
END:VEVENT
BEGIN:VEVENT
DTSTART;TZID=America/Chicago:20250909T190000
DTEND;TZID=America/Chicago:20250909T210000
DTSTAMP:20260420T193211
CREATED:20250604T161514Z
LAST-MODIFIED:20250604T161533Z
UID:30276-1757444400-1757451600@gsmbc.org
SUMMARY:Southwest Central District Association Fall Revival
DESCRIPTION:
URL:https://gsmbc.org/event/southwest-central-district-association-fall-revival-starts/
LOCATION:Galilee Baptist Church\, 6609 Fairwood Dr.\, Hitchcock\, TX\, 77563\, United States
CATEGORIES:Church Event,Community Event
END:VEVENT
BEGIN:VEVENT
DTSTART;TZID=America/Chicago:20250803T083000
DTEND;TZID=America/Chicago:20250803T103000
DTSTAMP:20260420T193211
CREATED:20250603T143545Z
LAST-MODIFIED:20250603T143545Z
UID:30226-1754209800-1754217000@gsmbc.org
SUMMARY:Pastor Randall's 35th Anniversary Service
DESCRIPTION:
URL:https://gsmbc.org/event/pastor-randalls-35th-anniversary-service/
CATEGORIES:Adult Choirs,Church Event
END:VEVENT
BEGIN:VEVENT
DTSTART;TZID=America/Chicago:20250723T190000
DTEND;TZID=America/Chicago:20250723T210000
DTSTAMP:20260420T193211
CREATED:20250604T161903Z
LAST-MODIFIED:20250604T161903Z
UID:30284-1753297200-1753304400@gsmbc.org
SUMMARY:Southwest Central District Association
DESCRIPTION:
URL:https://gsmbc.org/event/southwest-central-district-association/
CATEGORIES:Church Event,Community Event
END:VEVENT
BEGIN:VEVENT
DTSTART;TZID=America/Chicago:20250722T190000
DTEND;TZID=America/Chicago:20250722T210000
DTSTAMP:20260420T193211
CREATED:20250604T162110Z
LAST-MODIFIED:20250604T162110Z
UID:30287-1753210800-1753218000@gsmbc.org
SUMMARY:Southwest Central District Association
DESCRIPTION:
URL:https://gsmbc.org/event/southwest-central-district-association-2/
CATEGORIES:Church Event,Community Event
END:VEVENT
BEGIN:VEVENT
DTSTART;TZID=America/Chicago:20250721T190000
DTEND;TZID=America/Chicago:20250721T210000
DTSTAMP:20260420T193211
CREATED:20250602T173536Z
LAST-MODIFIED:20250604T161816Z
UID:30211-1753124400-1753131600@gsmbc.org
SUMMARY:Southwest Central District Association
DESCRIPTION:
URL:https://gsmbc.org/event/southwest-central-district-association-starts/
LOCATION:Greater Barbour’s Chapel Baptist Church\, 7420 FM 1765\, Texas City\, TX\, 77591\, United States
CATEGORIES:Church Event,Community Event
END:VEVENT
END:VCALENDAR