BEGIN:VCALENDAR
VERSION:2.0
PRODID:-//Greater St. Matthews Baptist Church - ECPv6.2.0.1//NONSGML v1.0//EN
CALSCALE:GREGORIAN
METHOD:PUBLISH
X-WR-CALNAME:Greater St. Matthews Baptist Church
X-ORIGINAL-URL:https://gsmbc.org
X-WR-CALDESC:Events for Greater St. Matthews Baptist Church
REFRESH-INTERVAL;VALUE=DURATION:PT1H
X-Robots-Tag:noindex
X-PUBLISHED-TTL:PT1H
BEGIN:VTIMEZONE
TZID:America/Chicago
BEGIN:DAYLIGHT
TZOFFSETFROM:-0600
TZOFFSETTO:-0500
TZNAME:CDT
DTSTART:20250309T080000
END:DAYLIGHT
BEGIN:STANDARD
TZOFFSETFROM:-0500
TZOFFSETTO:-0600
TZNAME:CST
DTSTART:20251102T070000
END:STANDARD
END:VTIMEZONE
BEGIN:VEVENT
DTSTART;VALUE=DATE:20251201
DTEND;VALUE=DATE:20251202
DTSTAMP:20260425T125703
CREATED:20250605T145225Z
LAST-MODIFIED:20250605T145225Z
UID:30384-1764547200-1764633599@gsmbc.org
SUMMARY:Fasting during Lunch
DESCRIPTION:
URL:https://gsmbc.org/event/fasting-during-lunch-6/
CATEGORIES:Bible Study,Church Event
END:VEVENT
BEGIN:VEVENT
DTSTART;TZID=America/Chicago:20251202T190000
DTEND;TZID=America/Chicago:20251202T203000
DTSTAMP:20260425T125703
CREATED:20250605T153128Z
LAST-MODIFIED:20250605T153128Z
UID:30414-1764702000-1764707400@gsmbc.org
SUMMARY:Night Time Bible Study
DESCRIPTION:
URL:https://gsmbc.org/event/night-time-bible-study-28/
CATEGORIES:Bible Study
END:VEVENT
BEGIN:VEVENT
DTSTART;TZID=America/Chicago:20251203T120000
DTEND;TZID=America/Chicago:20251203T133000
DTSTAMP:20260425T125703
CREATED:20250605T150448Z
LAST-MODIFIED:20250605T150448Z
UID:30398-1764763200-1764768600@gsmbc.org
SUMMARY:Noon Day Bible Study
DESCRIPTION:
URL:https://gsmbc.org/event/noon-day-bible-study-41/
CATEGORIES:Bible Study
END:VEVENT
BEGIN:VEVENT
DTSTART;VALUE=DATE:20251208
DTEND;VALUE=DATE:20251209
DTSTAMP:20260425T125703
CREATED:20250605T145312Z
LAST-MODIFIED:20250605T145312Z
UID:30386-1765152000-1765238399@gsmbc.org
SUMMARY:Fasting during Lunch
DESCRIPTION:
URL:https://gsmbc.org/event/fasting-during-lunch-7/
CATEGORIES:Bible Study,Church Event
END:VEVENT
BEGIN:VEVENT
DTSTART;TZID=America/Chicago:20251209T190000
DTEND;TZID=America/Chicago:20251209T203000
DTSTAMP:20260425T125703
CREATED:20250605T153216Z
LAST-MODIFIED:20250605T153216Z
UID:30416-1765306800-1765312200@gsmbc.org
SUMMARY:Night Time Bible Study
DESCRIPTION:
URL:https://gsmbc.org/event/night-time-bible-study-29/
CATEGORIES:Bible Study
END:VEVENT
BEGIN:VEVENT
DTSTART;TZID=America/Chicago:20251210T120000
DTEND;TZID=America/Chicago:20251210T133000
DTSTAMP:20260425T125703
CREATED:20250605T152048Z
LAST-MODIFIED:20250605T152048Z
UID:30400-1765368000-1765373400@gsmbc.org
SUMMARY:Noon Day Bible Study
DESCRIPTION:
URL:https://gsmbc.org/event/noon-day-bible-study-42/
CATEGORIES:Bible Study
END:VEVENT
BEGIN:VEVENT
DTSTART;VALUE=DATE:20251215
DTEND;VALUE=DATE:20251216
DTSTAMP:20260425T125703
CREATED:20250605T145416Z
LAST-MODIFIED:20250605T145416Z
UID:30388-1765756800-1765843199@gsmbc.org
SUMMARY:Fasting during Lunch
DESCRIPTION:
URL:https://gsmbc.org/event/fasting-during-lunch-8/
CATEGORIES:Bible Study,Church Event
END:VEVENT
BEGIN:VEVENT
DTSTART;VALUE=DATE:20251222
DTEND;VALUE=DATE:20251223
DTSTAMP:20260425T125703
CREATED:20250605T145606Z
LAST-MODIFIED:20250605T145606Z
UID:30395-1766361600-1766447999@gsmbc.org
SUMMARY:Fasting during Lunch
DESCRIPTION:
URL:https://gsmbc.org/event/fasting-during-lunch-11/
CATEGORIES:Bible Study,Church Event
END:VEVENT
BEGIN:VEVENT
DTSTART;VALUE=DATE:20251229
DTEND;VALUE=DATE:20251230
DTSTAMP:20260425T125703
CREATED:20250605T145508Z
LAST-MODIFIED:20250605T145508Z
UID:30392-1766966400-1767052799@gsmbc.org
SUMMARY:Fasting during Lunch
DESCRIPTION:
URL:https://gsmbc.org/event/fasting-during-lunch-10/
CATEGORIES:Bible Study,Church Event
END:VEVENT
END:VCALENDAR